Workbook

Sheet Ante operam
A1: STABILIMENTO 1
A2: STABILIMENTO 2
A3: STABILIMENTO 5
CT4: TOTALE
C5: Caratteristiche delle emissioni e del sistema di depurazione Concentrazione massima ammessa di inquinanti | D5: PUNTO DI EMISSIONE N. E8 – pulizia pneumatica atomizzatori stab.1 | E5: PUNTO DI EMISSIONE N. E11 – pulizia pneumatica moduli pesatura presse stab.1 | F5: PUNTO DI EMISSIONE N. E22 – carico mulini discontinui ed atomizzato | G5: PUNTO DI EMISSIONE E30 – carico silos 1-16, 49-70 | H5: PUNTO DI EMISSIONE E31 – pulizia pneumatica rep. squadratura stab.1, aspirazione scelte SC15-SC16 e magazzino presse stab.1 | I5: PUNTO DI EMISSIONE E32 – estraz. silos 1-16, 49-70 e carico moduli pesatura presse stab.1 | J5: PUNTO DI EMISSIONE E33 – reparto ATM Stab. 1 e carico/scarico silos travaso 6-29 | K5: PUNTO DI EMISSIONE E63 – ATM 5000 | L5: PUNTO DI EMISSIONE E65 – silos polveri provenienti da filtri | M5: PUNTO DI EMISSIONE E105 – gruppo elettrogeno cabina 2 | N5: PUNTO DI EMISSIONE E114 - moduli pesatori, carico presse, spazzolatura uscita F12 e F13 e aspirazioni reparto lappatura, stuoiatura e squadratura Stabilimento 1 | O5: PUNTO DI EMISSIONE E18 - dosaggio materie prime e carico mulini macinazione materie prime | P5: PUNTO DI EMISSIONE E23 – pulizia pneumatica reparto macinazione e ATM stab.2 | Q5: PUNTO DI EMISSIONE E41 – pulizia pneumatica moduli presse 1,2,3, presse PH201, PH202, PH203, estrazione silos presse ed essiccatoi 201 e 202 stab.2 | R5: PUNTO DI EMISSIONE E42 – estrazione moduli pesatura 1,2,3 e presse PH 201-PH202,PH203 | S5: PUNTO DI EMISSIONE E52 – estrazione moduli pesatura 4,5,6 e presse PH26,PH207,PH28,PH205 | T5: PUNTO DI EMISSIONE E53 – pulizia pneumatica moduli presse 4,5,6, presse PH26,PH207,PH28,PH205, essiccatoi 203,204,205, rep. smalteria stab.2 ed entrata forni stab.2 | U5: PUNTO DI EMISSIONE E84 – smalterie 23,24,25 e macinazione smalti | V5: PUNTO DI EMISSIONE E88 – linee smalteria 21,22 | W5: PUNTO DI EMISSIONE E92 – officina | X5: PUNTO DI EMISSIONE E101 – emergenza cogeneratore | Y5: PUNTO DI EMISSIONE E105 – gruppo elettrogeno cabina 2 | Z5: PUNTO DI EMISSIONE E106 – gruppo elettrogeno cabina 6 | AA5: PUNTO DI EMISSIONE E107 – gruppo elettrogeno cabina 6 bis | AB5: PUNTO DI EMISSIONE E108 – gruppo elettrogeno cabina 7 | AC5: PUNTO DI EMISSIONE E113 – linee scelta SC 201 - SC 202 - SC 203 - SC 204 - SC 205 - SC206 | AD5: PUNTO DI EMISSIONE E133 –ATM 22 + cogeneratore | AE5: PUNTO DI EMISSIONE E134 – filtro linee rettifica SQ203 e SQ204 | AF5: PUNTO DI EMISSIONE E135 – ATM 12 + cogeneratore | AG5: PUNTO DI EMISSIONE E136 – aspirazione linee pressatura (PL 11, PL12, PL13,PL14) | AH5: PUNTO DI EMISSIONE E137 – alimentazione polveri PL11, PL12, PL13,PL14 e sbavatura | AI5: PUNTO DI EMISSIONE E138 – camino 1 essiccatoio ESS12 | AJ5: PUNTO DI EMISSIONE E139 – camino 2 essiccatoio ESS12 | AK5: PUNTO DI EMISSIONE E141 – forno 12 | AL5: PUNTO DI EMISSIONE E142 – camini AAC1 + RLW forno 12 | AM5: PUNTO DI EMISSIONE E143 – camini AAC2 forno 12 | AN5: PUNTO DI EMISSIONE E144 – emergenza forno 12 | AO5: PUNTO DI EMISSIONE E145 – Smalterie SMA 12 - SMA13 -SMA14 | AP5: PUNTO DI EMISSIONE E146 – linea rettifica SQ12 e linea lappatura LAP11 | AQ5: PUNTO DI EMISSIONE E147 – aspirazione pneumatica presse, essiccatoi, smalteria e forni stab.1 | AR5: PUNTO DI EMISSIONE E148 – aspirazione linee scelta SC12 - SC13 - SC14 | AS5: PUNTO DI EMISSIONE E149 – essiccatoio 1 linea stuoiatura ST1 | AT5: PUNTO DI EMISSIONE E150 – essiccatoio 2 linea stuoiatura ST1 | AU5: PUNTO DI EMISSIONE E151 – emergenza cogeneratore COG11 | AV5: PUNTO DI EMISSIONE E152 – gruppo elettrogeno cabina 3 | AW5: PUNTO DI EMISSIONE E153 – filtro linee rettifica SQ201 e SQ202 | AX5: PUNTO DI EMISSIONE E154 – camino 1 essiccatoio ESS13 | AY5: PUNTO DI EMISSIONE E155 – camino 2 essiccatoio ESS13 | AZ5: PUNTO DI EMISSIONE E157 – forno 13 | BA5: PUNTO DI EMISSIONE E158 – camini AAC1 + RLW forno 13 | BB5: PUNTO DI EMISSIONE E159 – camini AAC2 forno 13 | BC5: PUNTO DI EMISSIONE E160 – emergenza forno 13 | BD5: PUNTO DI EMISSIONE E161 – linee rettifica SQ13-SQ14 | BE5: PUNTO DI EMISSIONE E163 – forni F22-F24 | BF5: PUNTO DI EMISSIONE E164 – emergenza forno 21 | BG5: PUNTO DI EMISSIONE E165 – raffreddamento RLW F21 | BH5: PUNTO DI EMISSIONE E166 – raffreddamento AAC1 F21 | BI5: PUNTO DI EMISSIONE E167 – raffreddamento AAC2 F21 | BJ5: PUNTO DI EMISSIONE E168 – pulizia pneumatica linee SQ200 - SQ 201 - SQ202 - SQ203 - SQ204 - SQ205 e uscita forni F21, F22, F23,F24 | BK5: E169 - postcombustore forni F12-F13 | BL5: PUNTO DI EMISSIONE E170 – forni 21-23 | BM5: PUNTO DI EMISSIONE E171 – camini AAC1 + RLW forno 22 | BN5: PUNTO DI EMISSIONE E172 – camini AAC2 forno 22 | BO5: PUNTO DI EMISSIONE E173 – emergenza forno 22 | BP5: PUNTO DI EMISSIONE E174 – camini AAC1 + RLW forno 23 | BQ5: PUNTO DI EMISSIONE E175 – camini AAC2 forno 23 | BR5: PUNTO DI EMISSIONE E176 – emergenza forno 23 | BS5: PUNTO DI EMISSIONE E177 camino linea termoretrazione CONF 201 | BT5: PUNTO DI EMISSIONE E178 camino linea termoretrazione CONF 202 | BU5: PUNTO DI EMISSIONE E179 camino linea termoretrazione CONF 203 | BV5: PUNTO DI EMISSIONE E180 camino linea termoretrazione CONF 204 | BW5: PUNTO DI EMISSIONE E181 camino linea termoretrazione CONF 12 | BX5: PUNTO DI EMISSIONE E182 camino linea termoretrazione CONF 13 | BY5: PUNTO DI EMISSIONE E183 emissione essiccatoio ESS 201 | BZ5: PUNTO DI EMISSIONE E184 emissione essiccatoio ESS 202 | CA5: PUNTO DI EMISSIONE E187 – linea squadratura SQ205 + pulizia zona uscita forni stab.2 | CB5: PUNTO DI EMISSIONE E189 -tramogge e linea carico terre | CC5: PUNTO DI EMISSIONE E190 – camino 1 essiccatoio ESS14 | CD5: PUNTO DI EMISSIONE E191 – camino 2 essiccatoio ESS14 | CE5: PUNTO DI EMISSIONE E192 - ATM 23 + cogeneratore | CF5: PUNTO DI EMISSIONE E193 carico-scarico sili atomizzato, area atomizzatori stab.2 e carico tramoggia atomizzato da esterno | CG5: PUNTO DI EMISSIONE E194 emissione essiccatoio 203 | CH5: PUNTO DI EMISSIONE E195 emissione essiccatoio ESS 204 | CI5: PUNTO DI EMISSIONE E196 emissione essiccatoio ESS 205 | CJ5: PUNTO DI EMISSIONE E197 – camini AAC1 + RLW forno 24 | CK5: PUNTO DI EMISSIONE E198 – camini AAC2 forno 24 | CL5: PUNTO DI EMISSIONE E199 – emergenza forno 24 | CM5: PUNTO DI EMISSIONE E200– linea squadratura SQ200 | CN5: E201 - postcombustore forni F21-F23 | CO5: PUNTO DI EMISSIONE E202 camino linea termoretrazione CONF 501 | CP5: PUNTO DI EMISSIONE E203 camino linea termoretrazione CONF 502 | CQ5: PUNTO DI EMISSIONE E204 – gruppo elettrogeno di emergenza | CR5: PUNTO DI EMISSIONE E205 -aspirazione linea lappatura 12 | CS5: PUNTO DI EMISSIONE E206 -aspirazione carico terre e materie prime ventilate stab.2
C8: Portata massima (Nmc/h) | D8: 2200 | E8: 2200 | F8: 30000 | G8: 21000 | H8: 2400 | I8: 25000 | J8: 44000 | K8: 45000 | L8: 1800 | M8: 4500 | N8: 60000 | O8: 31000 | P8: 2200 | Q8: 2000 | R8: 74000 | S8: 110000 | T8: 2300 | U8: 31000 | V8: 28000 | W8: 2400 | X8: 17500 | Y8: 4500 | Z8: 4500 | AA8: 3600 | AB8: 500 | AC8: 25000 | AD8: 70000 | AE8: 50000 | AF8: 60000 | AG8: 50000 | AH8: 40000 | AI8: 12000 | AJ8: 13000 | AK8: 17600 | AL8: 14500 | AM8: 25300 | AN8: 14500 | AO8: 45000 | AP8: 50000 | AQ8: 2500 | AR8: 10000 | AS8: 1500 | AT8: 1500 | AU8: 17500 | AV8: 8000 | AW8: 52000 | AX8: 12000 | AY8: 13000 | AZ8: 18750 | BA8: 20250 | BB8: 35300 | BC8: 18750 | BD8: 64000 | BE8: 42000 | BF8: 20000 | BG8: 14500 | BH8: 22800 | BI8: 41000 | BJ8: 1500 | BK8: 40000 | BL8: 40000 | BM8: 20450 | BN8: 34200 | BO8: 20000 | BP8: 20450 | BQ8: 34200 | BR8: 20000 | BS8: 4000 | BT8: 4000 | BU8: 4000 | BV8: 4000 | BW8: 4000 | BX8: 8000 | BY8: 8000 | BZ8: 8000 | CA8: 30000 | CB8: 21000 | CC8: 12000 | CD8: 13000 | CE8: 70000 | CF8: 90000 | CG8: 8000 | CH8: 8000 | CI8: 8000 | CJ8: 20450 | CK8: 34200 | CL8: 22000 | CM8: 30000 | CN8: 40000 | CO8: 6000 | CP8: 6000 | CQ8: 8000 | CR8: 25000 | CS8: 17000
C9: Durata (h/g) | D9: 24 | E9: 24 | F9: 24 | G9: 24 | H9: 24 | I9: 24 | J9: 24 | K9: 24 | L9: 24 | N9: 24 | O9: 24 | P9: 24 | Q9: 24 | R9: 24 | S9: 24 | T9: 24 | U9: 24 | V9: 24 | W9: 8 | X9: 0 | Y9: 0 | Z9: 0 | AA9: 0 | AB9: 0 | AC9: 24 | AD9: 24 | AE9: 24 | AF9: 24 | AG9: 24 | AH9: 24 | AI9: 24 | AJ9: 24 | AK9: 0 | AL9: 24 | AM9: 24 | AN9: 0 | AO9: 24 | AP9: 24 | AQ9: 24 | AR9: 24 | AS9: 24 | AT9: 24 | AU9: 0 | AV9: 0 | AW9: 24 | AX9: 24 | AY9: 24 | AZ9: 0 | BA9: 24 | BB9: 24 | BC9: 0 | BD9: 24 | BE9: 24 | BF9: 0 | BG9: 24 | BH9: 24 | BI9: 24 | BJ9: 24 | BK9: 24 | BL9: 0 | BM9: 24 | BN9: 24 | BO9: 0 | BP9: 24 | BQ9: 24 | BR9: 0 | BS9: 24 | BT9: 24 | BU9: 24 | BV9: 24 | BW9: 24 | BX9: 24 | BY9: 24 | BZ9: 24 | CA9: 24 | CB9: 24 | CC9: 24 | CD9: 24 | CE9: 24 | CF9: 24 | CG9: 24 | CH9: 24 | CI9: 24 | CJ9: 24 | CK9: 24 | CL9: 0 | CM9: 24 | CN9: 24 | CO9: 24 | CP9: 24 | CQ9: 0 | CR9: 24 | CS9: 24
C10: Materiale Particellare (mg/Nmc) | D10: 29 | E10: 29 | F10: 27 | G10: 29 | H10: 29 | I10: 29 | J10: 29 | K10: 29 | L10: 29 | M10: 130 | N10: 10 | O10: 28 | P10: 29 | Q10: 30 | R10: 25 | S10: 28 | T10: 30 | U10: 10 | V10: 10 | X10: 130 | AC10: 10 | AD10: 22 | AE10: 15 | AF10: 22 | AG10: 16 | AH10: 15 | AK10: 5 | AO10: 10 | AP10: 16 | AQ10: 20 | AR10: 15 | AU10: 50 | AW10: 16 | AZ10: 5 | BD10: 15 | BE10: 5 | BJ10: 15 | BK10: 5 | BL10: 5 | CA10: 23 | CB10: 21 | CE10: 22 | CF10: 27 | CM10: 23 | CN10: 5 | CR10: 30 | CS10: 30
C11: Silice libera cristallina (mg/Nm3) (#)
C12: Piombo (mg/Nmc) | AK12: 0.5 | AZ12: 0.5 | BE12: 0.48 | BK12: 0.47 | BL12: 0.48 | CN12: 0.48
C13: Fluoro (mg/Nmc) | AK13: 5 | AZ13: 5 | BE13: 4.8 | BK13: 4.7 | BL13: 4.8 | CN13: 4.8
C14: S.O.V. (come C-org. Totale) (mg/Nmc) | AK14: 47 | AT14: 50 | AZ14: 50 | BE14: 48 | BK14: 44 | BL14: 47 | CN14: 47
C15: Aldeidi (mg/Nmc) | AK15: 18 | AZ15: 20 | BE15: 19 | BK15: 17 | BL15: 19 | CN15: 19
C16: Monossido di Carbonio (come CO) (mg/Nm3) | M16: 650 | X16: 650 | AD16: 310 | AF16: 310 | AU16: 240 | CE16: 310
C17: Ossidi di Azoto (come NO2) (mg/Nm3) | K17: 105 | M17: 4000 | X17: 500 | AD17: 190 | AF17: 190 | AK17: 105 | AU17: 95 | AZ17: 105 | BE17: 105 | BK17: 105 | BL17: 105 | CE17: 190 | CN17: 105
C18: Ossidi di Zolfo (come SO2) (mg/Nm3) | K18: 35 | X18: 500 | AD18: 35 | AF18: 35 | AK18: 413 | AU18: 15 | AZ18: 445 | BE18: 405 | BK18: 405 | BL18: 405 | CE18: 35 | CN18: 405
C19: FLUSSO DI MASSA POLVERI (kg/g) | D19: =D8*D9*D10/1000000 -> 1.5312 | E19: =E8*E9*E10/1000000 -> 1.5312 | F19: =F8*F9*F10/1000000 -> 19.44 | G19: =G8*G9*G10/1000000 -> 14.616 | H19: =H8*H9*H10/1000000 -> 1.6704 | I19: =I8*I9*I10/1000000 -> 17.4 | J19: =J8*J9*J10/1000000 -> 30.624 | K19: =K8*K9*K10/1000000 -> 31.32 | ... CS19: =CS8*CS9*CS10/1000000 -> 12.24 | CT19: =SUM(D19:CS19) -> 680.1768
C20: FLUSSO DI MASSA SILICE (kg) | D20: 0 | E20: 0 | F20: 0 | G20: 0 | H20: 0 | I20: 0 | J20: 0 | K20: 0 | L20: 0 | M20: 0 | CF20: =CF9*CF10*CF11/1000000 -> 0 | CG20: =CG9*CG10*CG11/1000000 -> 0 | CT20: =SUM(D20:CS20) -> 0
C21: FLUSSO DI MASSA PIOMBO (kg/g) | D21: =D8*D9*D12/1000000 -> 0 | E21: =E8*E9*E12/1000000 -> 0 | F21: =F8*F9*F12/1000000 -> 0 | G21: =G8*G9*G12/1000000 -> 0 | H21: =H8*H9*H12/1000000 -> 0 | I21: =I8*I9*I12/1000000 -> 0 | J21: =J8*J9*J12/1000000 -> 0 | K21: =K8*K9*K12/1000000 -> 0 | ... CE21: =CE8*CE9*CE12/1000000 -> 0 | CF21: =CF10*CF11*CF12/1000000 -> 0 | CG21: =CG10*CG11*CG12/1000000 -> 0 | CH21: =CH8*CH9*CH12/1000000 -> 0 | CI21: =CI8*CI9*CI12/1000000 -> 0 | CJ21: =CJ8*CJ9*CJ12/1000000 -> 0 | CK21: =CK8*CK9*CK12/1000000 -> 0 | CL21: =CL8*CL9*CL12/1000000 -> 0 | CM21: =CM8*CM9*CM12/1000000 -> 0 | CN21: =CN8*CN9*CN12/1000000 -> 0.4608 | CO21: =CO8*CO9*CO12/1000000 -> 0 | ... CS21: =CS8*CS9*CS12/1000000 -> 0 | CT21: =SUM(D21:CS21) -> 1.39584
C22: FLUSSO DI MASSA FLUORO (kg/g) | D22: =D8*D9*D13/1000000 -> 0 | E22: =E8*E9*E13/1000000 -> 0 | F22: =F8*F9*F13/1000000 -> 0 | G22: =G8*G9*G13/1000000 -> 0 | H22: =H8*H9*H13/1000000 -> 0 | I22: =I8*I9*I13/1000000 -> 0 | J22: =J8*J9*J13/1000000 -> 0 | K22: =K8*K9*K13/1000000 -> 0 | ... CE22: =CE8*CE9*CE13/1000000 -> 0 | CF22: =CF11*CF12*CF13/1000000 -> 0 | CG22: =CG11*CG12*CG13/1000000 -> 0 | CH22: =CH8*CH9*CH13/1000000 -> 0 | CI22: =CI8*CI9*CI13/1000000 -> 0 | CJ22: =CJ8*CJ9*CJ13/1000000 -> 0 | CK22: =CK8*CK9*CK13/1000000 -> 0 | CL22: =CL8*CL9*CL13/1000000 -> 0 | CM22: =CM8*CM9*CM13/1000000 -> 0 | CN22: =CN8*CN9*CN13/1000000 -> 4.608 | CO22: =CO8*CO9*CO13/1000000 -> 0 | ... CS22: =CS8*CS9*CS13/1000000 -> 0 | CT22: =SUM(D22:CS22) -> 13.9584
C23: FLUSSO DI MASSA S.O.V. (kg/g) | D23: =D8*D9*D14/1000000 -> 0 | E23: =E8*E9*E14/1000000 -> 0 | F23: =F8*F9*F14/1000000 -> 0 | G23: =G8*G9*G14/1000000 -> 0 | H23: =H8*H9*H14/1000000 -> 0 | I23: =I8*I9*I14/1000000 -> 0 | J23: =J8*J9*J14/1000000 -> 0 | K23: =K8*K9*K14/1000000 -> 0 | ... CE23: =CE8*CE9*CE14/1000000 -> 0 | CF23: =CF12*CF13*CF14/1000000 -> 0 | CG23: =CG12*CG13*CG14/1000000 -> 0 | CH23: =CH8*CH9*CH14/1000000 -> 0 | CI23: =CI8*CI9*CI14/1000000 -> 0 | CJ23: =CJ8*CJ9*CJ14/1000000 -> 0 | CK23: =CK8*CK9*CK14/1000000 -> 0 | CL23: =CL8*CL9*CL14/1000000 -> 0 | CM23: =CM8*CM9*CM14/1000000 -> 0 | CN23: =CN8*CN9*CN14/1000000 -> 45.12 | CO23: =CO8*CO9*CO14/1000000 -> 0 | ... CS23: =CS8*CS9*CS14/1000000 -> 0 | CT23: =SUM(D23:CS23) -> 137.544
C24: FLUSSO DI MASSA ALDEIDI (kg/g) | D24: =D8*D9*D15/1000000 -> 0 | E24: =E8*E9*E15/1000000 -> 0 | F24: =F8*F9*F15/1000000 -> 0 | G24: =G8*G9*G15/1000000 -> 0 | H24: =H8*H9*H15/1000000 -> 0 | I24: =I8*I9*I15/1000000 -> 0 | J24: =J8*J9*J15/1000000 -> 0 | K24: =K8*K9*K15/1000000 -> 0 | ... CE24: =CE8*CE9*CE15/1000000 -> 0 | CF24: =CF13*CF14*CF15/1000000 -> 0 | CG24: =CG13*CG14*CG15/1000000 -> 0 | CH24: =CH8*CH9*CH15/1000000 -> 0 | CI24: =CI8*CI9*CI15/1000000 -> 0 | CJ24: =CJ8*CJ9*CJ15/1000000 -> 0 | CK24: =CK8*CK9*CK15/1000000 -> 0 | CL24: =CL8*CL9*CL15/1000000 -> 0 | CM24: =CM8*CM9*CM15/1000000 -> 0 | CN24: =CN8*CN9*CN15/1000000 -> 18.24 | CO24: =CO8*CO9*CO15/1000000 -> 0 | ... CS24: =CS8*CS9*CS15/1000000 -> 0 | CT24: =SUM(D24:CS24) -> 53.712
C25: FLUSSO DI MASSA MONOSSIDO DI CARBONIO (kg/g) | D25: =D8*D9*D16/1000000 -> 0 | E25: =E8*E9*E16/1000000 -> 0 | F25: =F8*F9*F16/1000000 -> 0 | G25: =G8*G9*G16/1000000 -> 0 | H25: =H8*H9*H16/1000000 -> 0 | I25: =I8*I9*I16/1000000 -> 0 | J25: =J8*J9*J16/1000000 -> 0 | K25: =K8*K9*K16/1000000 -> 0 | ... CE25: =CE8*CE9*CE16/1000000 -> 520.8 | CF25: =CF14*CF15*CF16/1000000 -> 0 | CG25: =CG14*CG15*CG16/1000000 -> 0 | CH25: =CH8*CH9*CH16/1000000 -> 0 | CI25: =CI8*CI9*CI16/1000000 -> 0 | CJ25: =CJ8*CJ9*CJ16/1000000 -> 0 | CK25: =CK8*CK9*CK16/1000000 -> 0 | CL25: =CL8*CL9*CL16/1000000 -> 0 | CM25: =CM8*CM9*CM16/1000000 -> 0 | CN25: =CN8*CN9*CN16/1000000 -> 0 | CO25: =CO8*CO9*CO16/1000000 -> 0 | ... CS25: =CS8*CS9*CS16/1000000 -> 0 | CT25: =SUM(D25:CS25) -> 1488
C26: FLUSSO DI MASSA OSSIDI DI AZOTO (kg/g) | D26: =D8*D9*D17/1000000 -> 0 | E26: =E8*E9*E17/1000000 -> 0 | F26: =F8*F9*F17/1000000 -> 0 | G26: =G8*G9*G17/1000000 -> 0 | H26: =H8*H9*H17/1000000 -> 0 | I26: =I8*I9*I17/1000000 -> 0 | J26: =J8*J9*J17/1000000 -> 0 | K26: =K8*K9*K17/1000000 -> 113.4 | ... CE26: =CE8*CE9*CE17/1000000 -> 319.2 | CF26: =CF15*CF16*CF17/1000000 -> 0 | CG26: =CG15*CG16*CG17/1000000 -> 0 | CH26: =CH8*CH9*CH17/1000000 -> 0 | CI26: =CI8*CI9*CI17/1000000 -> 0 | CJ26: =CJ8*CJ9*CJ17/1000000 -> 0 | CK26: =CK8*CK9*CK17/1000000 -> 0 | CL26: =CL8*CL9*CL17/1000000 -> 0 | CM26: =CM8*CM9*CM17/1000000 -> 0 | CN26: =CN8*CN9*CN17/1000000 -> 100.8 | CO26: =CO8*CO9*CO17/1000000 -> 0 | ... CS26: =CS8*CS9*CS17/1000000 -> 0 | CT26: =SUM(D26:CS26) -> 1332.84
C27: FLUSSO DI MASSA OSSIDI DI ZOLFO (kg/g) | D27: =D8*D9*D18/1000000 -> 0 | E27: =E8*E9*E18/1000000 -> 0 | F27: =F8*F9*F18/1000000 -> 0 | G27: =G8*G9*G18/1000000 -> 0 | H27: =H8*H9*H18/1000000 -> 0 | I27: =I8*I9*I18/1000000 -> 0 | J27: =J8*J9*J18/1000000 -> 0 | K27: =K8*K9*K18/1000000 -> 37.8 | ... CE27: =CE8*CE9*CE18/1000000 -> 58.8 | CF27: =CF16*CF17*CF18/1000000 -> 0 | CG27: =CG16*CG17*CG18/1000000 -> 0 | CH27: =CH8*CH9*CH18/1000000 -> 0 | CI27: =CI8*CI9*CI18/1000000 -> 0 | CJ27: =CJ8*CJ9*CJ18/1000000 -> 0 | CK27: =CK8*CK9*CK18/1000000 -> 0 | CL27: =CL8*CL9*CL18/1000000 -> 0 | CM27: =CM8*CM9*CM18/1000000 -> 0 | CN27: =CN8*CN9*CN18/1000000 -> 388.8 | CO27: =CO8*CO9*CO18/1000000 -> 0 | ... CS27: =CS8*CS9*CS18/1000000 -> 0 | CT27: =SUM(D27:CS27) -> 1391.64
D29: Punti di emissione già autorizzati e non modificati
D30: Non previsti limiti dall'AIA
D31: Nuovi punti di emissione
D32: Eliminazione punti
D33: Variazioni rispetto a ultima modifica AIA
D34: Riduzioni / mitigazione portate o valori inquinanti rispetto a "STATO RICHIESTO"
C35: Scritte in rosso | D35: Variazioni a descrizioni punti esistenti

Sheet STATO RICHIESTO %0
A1: STABILIMENTO 1
A2: STABILIMENTO 2
A3: STABILIMENTO 5
CT4: TOTALE | CU4: % AUMENTO
C5: Caratteristiche delle emissioni e del sistema di depurazione Concentrazione massima ammessa di inquinanti | D5: PUNTO DI EMISSIONE N. E8 – pulizia pneumatica atomizzatori stab.1 | E5: PUNTO DI EMISSIONE N. E11 – pulizia pneumatica moduli pesatura presse stab.1 | F5: PUNTO DI EMISSIONE N. E22 – carico mulini discontinui ed atomizzato | G5: PUNTO DI EMISSIONE E30 – carico silos 1-16, 49-70 | H5: PUNTO DI EMISSIONE E31 – pulizia pneumatica rep. squadratura stab.1, aspirazione scelte SC15-SC16 e magazzino presse stab.1 | I5: PUNTO DI EMISSIONE E32 – estraz. silos 1-16, 49-70 e carico moduli pesatura presse stab.1 | J5: PUNTO DI EMISSIONE E33 – reparto ATM Stab. 1 e carico/scarico silos travaso 6-29 | K5: PUNTO DI EMISSIONE E63 – ATM 5000 | L5: PUNTO DI EMISSIONE E65 – silos polveri provenienti da filtri | M5: PUNTO DI EMISSIONE E105 – gruppo elettrogeno cabina 2 | N5: PUNTO DI EMISSIONE E114 - moduli pesatori, carico presse, spazzolatura uscita F12 e F13 e aspirazioni reparto lappatura, stuoiatura e squadratura Stabilimento 1 | O5: PUNTO DI EMISSIONE E18 - dosaggio materie prime e carico mulini macinazione materie prime | P5: PUNTO DI EMISSIONE E23 – pulizia pneumatica reparto macinazione e ATM stab.2 | Q5: PUNTO DI EMISSIONE E41 – pulizia pneumatica moduli presse 1,2,3, presse PH201, PH202, PH203, estrazione silos presse ed essiccatoi 201 e 202 stab.2 | R5: PUNTO DI EMISSIONE E42 – estrazione moduli pesatura 1,2,3 e presse PH 201-PH202,PH203 | S5: PUNTO DI EMISSIONE E52 – estrazione moduli pesatura 4,5,6 e presse PH26,PH207,PH28,PH205 | T5: PUNTO DI EMISSIONE E53 – pulizia pneumatica moduli presse 4,5,6, presse PH26,PH207,PH28,PH205, essiccatoi 203,204,205, rep. smalteria stab.2 ed entrata forni stab.2 | U5: PUNTO DI EMISSIONE E84 – smalterie 23,24,25 e macinazione smalti | V5: PUNTO DI EMISSIONE E88 – linee smalteria 21,22 | W5: PUNTO DI EMISSIONE E92 – officina | X5: PUNTO DI EMISSIONE E101 – emergenza cogeneratore | Y5: PUNTO DI EMISSIONE E105 – gruppo elettrogeno cabina 2 | Z5: PUNTO DI EMISSIONE E106 – gruppo elettrogeno cabina 6 | AA5: PUNTO DI EMISSIONE E107 – gruppo elettrogeno cabina 6 bis | AB5: PUNTO DI EMISSIONE E108 – gruppo elettrogeno cabina 7 | AC5: PUNTO DI EMISSIONE E113 – linee scelta SC 201 - SC 202 - SC 203 - SC 204 - SC 205 - SC206 | AD5: PUNTO DI EMISSIONE E133 –ATM 22 + cogeneratore | AE5: PUNTO DI EMISSIONE E134 – filtro linee rettifica SQ203 e SQ204 | AF5: PUNTO DI EMISSIONE E135 – ATM 12 + cogeneratore | AG5: PUNTO DI EMISSIONE E136 – aspirazione linee pressatura (PL 11, PL12, PL13,PL14) | AH5: PUNTO DI EMISSIONE E137 – alimentazione polveri PL11, PL12, PL13,PL14 e sbavatura | AI5: PUNTO DI EMISSIONE E138 – camino 1 essiccatoio ESS12 | AJ5: PUNTO DI EMISSIONE E139 – camino 2 essiccatoio ESS12 | AK5: PUNTO DI EMISSIONE E141 – forno 12 | AL5: PUNTO DI EMISSIONE E142 – camini AAC1 + RLW forno 12 | AM5: PUNTO DI EMISSIONE E143 – camini AAC2 forno 12 | AN5: PUNTO DI EMISSIONE E144 – emergenza forno 12 | AO5: PUNTO DI EMISSIONE E145 – Smalterie SMA 12 - SMA13 -SMA14 | AP5: PUNTO DI EMISSIONE E146 – linea rettifica SQ12 e linea lappatura LAP11 | AQ5: PUNTO DI EMISSIONE E147 – aspirazione pneumatica presse, essiccatoi, smalteria e forni stab.1 | AR5: PUNTO DI EMISSIONE E148 – aspirazione linee scelta SC12 - SC13 - SC14 | AS5: PUNTO DI EMISSIONE E149 – essiccatoio 1 linea stuoiatura ST1 | AT5: PUNTO DI EMISSIONE E150 – essiccatoio 2 linea stuoiatura ST1 | AU5: PUNTO DI EMISSIONE E151 – emergenza cogeneratore COG11 | AV5: PUNTO DI EMISSIONE E152 – gruppo elettrogeno cabina 3 | AW5: PUNTO DI EMISSIONE E153 – filtro linee rettifica SQ201 e SQ202 | AX5: PUNTO DI EMISSIONE E154 – camino 1 essiccatoio ESS13 | AY5: PUNTO DI EMISSIONE E155 – camino 2 essiccatoio ESS13 | AZ5: PUNTO DI EMISSIONE E157 – forno 13 | BA5: PUNTO DI EMISSIONE E158 – camini AAC1 + RLW forno 13 | BB5: PUNTO DI EMISSIONE E159 – camini AAC2 forno 13 | BC5: PUNTO DI EMISSIONE E160 – emergenza forno 13 | BD5: PUNTO DI EMISSIONE E161 – linee rettifica SQ13-SQ14 | BE5: PUNTO DI EMISSIONE E163 – forni F22-F24 | BF5: PUNTO DI EMISSIONE E164 – emergenza forno 21 | BG5: PUNTO DI EMISSIONE E165 – raffreddamento RLW F21 | BH5: PUNTO DI EMISSIONE E166 – raffreddamento AAC1 F21 | BI5: PUNTO DI EMISSIONE E167 – raffreddamento AAC2 F21 | BJ5: PUNTO DI EMISSIONE E168 – pulizia pneumatica linee SQ200 - SQ 201 - SQ202 - SQ203 - SQ204 - SQ205 e uscita forni F21, F22, F23,F24 | BK5: E169 - postcombustore forni F12-F13 | BL5: PUNTO DI EMISSIONE E170 – forni 21-23 | BM5: PUNTO DI EMISSIONE E171 – camini AAC1 + RLW forno 22 | BN5: PUNTO DI EMISSIONE E172 – camini AAC2 forno 22 | BO5: PUNTO DI EMISSIONE E173 – emergenza forno 22 | BP5: PUNTO DI EMISSIONE E174 – camini AAC1 + RLW forno 23 | BQ5: PUNTO DI EMISSIONE E175 – camini AAC2 forno 23 | BR5: PUNTO DI EMISSIONE E176 – emergenza forno 23 | BS5: PUNTO DI EMISSIONE E177 camino linea termoretrazione CONF 201 | BT5: PUNTO DI EMISSIONE E178 camino linea termoretrazione CONF 202 | BU5: PUNTO DI EMISSIONE E179 camino linea termoretrazione CONF 203 | BV5: PUNTO DI EMISSIONE E180 camino linea termoretrazione CONF 204 | BW5: PUNTO DI EMISSIONE E181 camino linea termoretrazione CONF 12 | BX5: PUNTO DI EMISSIONE E182 camino linea termoretrazione CONF 13 | BY5: PUNTO DI EMISSIONE E183 emissione essiccatoio ESS 201 | BZ5: PUNTO DI EMISSIONE E184 emissione essiccatoio ESS 202 | CA5: PUNTO DI EMISSIONE E187 – linea squadratura SQ205 + pulizia zona uscita forni stab.2 | CB5: PUNTO DI EMISSIONE E189 -tramogge e linea carico terre | CC5: PUNTO DI EMISSIONE E190 – camino 1 essiccatoio ESS14 | CD5: PUNTO DI EMISSIONE E191 – camino 2 essiccatoio ESS14 | CE5: PUNTO DI EMISSIONE E192 - ATM 23 + cogeneratore | CF5: PUNTO DI EMISSIONE E193 carico-scarico sili atomizzato, area atomizzatori stab.2 e carico tramoggia atomizzato da esterno | CG5: PUNTO DI EMISSIONE E194 emissione essiccatoio 203 | CH5: PUNTO DI EMISSIONE E195 emissione essiccatoio ESS 204 | CI5: PUNTO DI EMISSIONE E196 emissione essiccatoio ESS 205 | CJ5: PUNTO DI EMISSIONE E197 – camini AAC1 + RLW forno 24 | CK5: PUNTO DI EMISSIONE E198 – camini AAC2 forno 24 | CL5: PUNTO DI EMISSIONE E199 – emergenza forno 24 | CM5: PUNTO DI EMISSIONE E200– linea squadratura SQ200 | CN5: E201 - postcombustore forni F21-F23 | CO5: PUNTO DI EMISSIONE E202 camino linea termoretrazione CONF 501 | CP5: PUNTO DI EMISSIONE E203 camino linea termoretrazione CONF 502 | CQ5: PUNTO DI EMISSIONE E204 – gruppo elettrogeno di emergenza | CR5: PUNTO DI EMISSIONE E205 -aspirazione linea lappatura 12 | CS5: PUNTO DI EMISSIONE E206 -aspirazione carico terre e materie prime ventilate stab.2
C8: Portata massima (Nmc/h) | D8: 2200 | E8: 2200 | F8: 30000 | G8: 21000 | H8: 2400 | I8: 25000 | J8: 44000 | K8: 45000 | L8: 1800 | M8: 4500 | N8: 60000 | O8: 31000 | P8: 2200 | Q8: 2000 | R8: 74000 | S8: 110000 | T8: 2300 | U8: 31000 | V8: 28000 | W8: 2400 | X8: 17500 | Y8: 4500 | Z8: 4500 | AA8: 3600 | AB8: 500 | AC8: 25000 | AD8: 70000 | AE8: 50000 | AF8: 60000 | AG8: 50000 | AH8: 40000 | AI8: 12000 | AJ8: 13000 | AK8: 22000 | AL8: 14500 | AM8: 25300 | AN8: 14500 | AO8: 45000 | AP8: 50000 | AQ8: 2500 | AR8: 10000 | AS8: 1500 | AT8: 1500 | AU8: 17500 | AV8: 8000 | AW8: 52000 | AX8: 12000 | AY8: 13000 | AZ8: 20000 | BA8: 20250 | BB8: 35300 | BC8: 18750 | BD8: 64000 | BE8: 45000 | BF8: 20000 | BG8: 14500 | BH8: 22800 | BI8: 41000 | BJ8: 1500 | BK8: 48000 | BL8: 42000 | BM8: 20450 | BN8: 34200 | BO8: 20000 | BP8: 20450 | BQ8: 34200 | BR8: 20000 | BS8: 4000 | BT8: 4000 | BU8: 4000 | BV8: 4000 | BW8: 4000 | BX8: 8000 | BY8: 8000 | BZ8: 8000 | CA8: 30000 | CB8: 21000 | CC8: 12000 | CD8: 13000 | CE8: 70000 | CF8: 90000 | CG8: 8000 | CH8: 8000 | CI8: 8000 | CJ8: 20450 | CK8: 34200 | CL8: 22000 | CM8: 30000 | CN8: 48000 | CO8: 6000 | CP8: 6000 | CQ8: 8000 | CR8: 25000 | CS8: 17000
C9: Durata (h/g) | D9: 24 | E9: 24 | F9: 24 | G9: 24 | H9: 24 | I9: 24 | J9: 24 | K9: 24 | L9: 24 | N9: 24 | O9: 24 | P9: 24 | Q9: 24 | R9: 24 | S9: 24 | T9: 24 | U9: 24 | V9: 24 | W9: 8 | X9: 0 | Y9: 0 | Z9: 0 | AA9: 0 | AB9: 0 | AC9: 24 | AD9: 24 | AE9: 24 | AF9: 24 | AG9: 24 | AH9: 24 | AI9: 24 | AJ9: 24 | AK9: 0 | AL9: 24 | AM9: 24 | AN9: 0 | AO9: 24 | AP9: 24 | AQ9: 24 | AR9: 24 | AS9: 24 | AT9: 24 | AU9: 0 | AV9: 0 | AW9: 24 | AX9: 24 | AY9: 24 | AZ9: 0 | BA9: 24 | BB9: 24 | BC9: 0 | BD9: 24 | BE9: 24 | BF9: 0 | BG9: 24 | BH9: 24 | BI9: 24 | BJ9: 24 | BK9: 24 | BL9: 0 | BM9: 24 | BN9: 24 | BO9: 0 | BP9: 24 | BQ9: 24 | BR9: 0 | BS9: 24 | BT9: 24 | BU9: 24 | BV9: 24 | BW9: 24 | BX9: 24 | BY9: 24 | BZ9: 24 | CA9: 24 | CB9: 24 | CC9: 24 | CD9: 24 | CE9: 24 | CF9: 24 | CG9: 24 | CH9: 24 | CI9: 24 | CJ9: 24 | CK9: 24 | CL9: 0 | CM9: 24 | CN9: 24 | CO9: 24 | CP9: 24 | CQ9: 0 | CR9: 24 | CS9: 24
C10: Materiale Particellare (mg/Nmc) | D10: 29 | E10: 29 | F10: 27 | G10: 29 | H10: 29 | I10: 29 | J10: 29 | K10: 29 | L10: 29 | M10: 130 | N10: 10 | O10: 28 | P10: 29 | Q10: 30 | R10: 25 | S10: 28 | T10: 30 | U10: 10 | V10: 10 | X10: 130 | AC10: 10 | AD10: 22 | AE10: 15 | AF10: 22 | AG10: 16 | AH10: 15 | AK10: 5 | AO10: 10 | AP10: 16 | AQ10: 20 | AR10: 15 | AU10: 50 | AW10: 16 | AZ10: 5 | BD10: 15 | BE10: 5 | BJ10: 15 | BK10: 5 | BL10: 5 | CA10: 23 | CB10: 21 | CE10: 22 | CF10: 27 | CM10: 23 | CN10: 5 | CR10: 30 | CS10: 30
C11: Silice libera cristallina (mg/Nm3) (#)
C12: Piombo (mg/Nmc) | AK12: 0.5 | AZ12: 0.5 | BE12: 0.48 | BK12: 0.47 | BL12: 0.48 | CN12: 0.48
C13: Fluoro (mg/Nmc) | AK13: 5 | AZ13: 5 | BE13: 4.8 | BK13: 4.7 | BL13: 4.8 | CN13: 4.8
C14: S.O.V. (come C-org. Totale) (mg/Nmc) | AK14: 47 | AT14: 50 | AZ14: 50 | BE14: 48 | BK14: 44 | BL14: 47 | CN14: 47
C15: Aldeidi (mg/Nmc) | AK15: 18 | AZ15: 20 | BE15: 19 | BK15: 17 | BL15: 19 | CN15: 19
C16: Monossido di Carbonio (come CO) (mg/Nm3) | M16: 650 | X16: 650 | AD16: 310 | AF16: 310 | AU16: 240 | CE16: 310
C17: Ossidi di Azoto (come NO2) (mg/Nm3) | K17: 105 | M17: 4000 | X17: 500 | AD17: 190 | AF17: 190 | AK17: 105 | AU17: 95 | AZ17: 105 | BE17: 105 | BK17: 105 | BL17: 105 | CE17: 190 | CN17: 105
C18: Ossidi di Zolfo (come SO2) (mg/Nm3) | K18: 35 | X18: 500 | AD18: 35 | AF18: 35 | AK18: 413 | AU18: 15 | AZ18: 445 | BE18: 405 | BK18: 405 | BL18: 405 | CE18: 35 | CN18: 405
C19: FLUSSO DI MASSA POLVERI (kg/g) | D19: =D8*D9*D10/1000000 -> 1.5312 | E19: =E8*E9*E10/1000000 -> 1.5312 | F19: =F8*F9*F10/1000000 -> 19.44 | G19: =G8*G9*G10/1000000 -> 14.616 | H19: =H8*H9*H10/1000000 -> 1.6704 | I19: =I8*I9*I10/1000000 -> 17.4 | J19: =J8*J9*J10/1000000 -> 30.624 | K19: =K8*K9*K10/1000000 -> 31.32 | ... CS19: =CS8*CS9*CS10/1000000 -> 12.24 | CT19: =SUM(D19:CS19) -> 682.4568 | CU19: =(CT19/'Ante operam'!CT19*100)-100 -> 0.33520696
C20: FLUSSO DI MASSA SILICE (kg) | D20: 0 | E20: 0 | F20: 0 | G20: 0 | H20: 0 | I20: 0 | J20: 0 | K20: 0 | L20: 0 | M20: 0 | CF20: =CF9*CF10*CF11/1000000 -> 0 | CG20: =CG9*CG10*CG11/1000000 -> 0 | CT20: =SUM(D20:CS20) -> 0 | CU20: =(CT20/'Ante operam'!CT20*100)-100 -> #DIV/0!
C21: FLUSSO DI MASSA PIOMBO (kg/g) | D21: =D8*D9*D12/1000000 -> 0 | E21: =E8*E9*E12/1000000 -> 0 | F21: =F8*F9*F12/1000000 -> 0 | G21: =G8*G9*G12/1000000 -> 0 | H21: =H8*H9*H12/1000000 -> 0 | I21: =I8*I9*I12/1000000 -> 0 | J21: =J8*J9*J12/1000000 -> 0 | K21: =K8*K9*K12/1000000 -> 0 | ... CE21: =CE8*CE9*CE12/1000000 -> 0 | CF21: =CF10*CF11*CF12/1000000 -> 0 | CG21: =CG10*CG11*CG12/1000000 -> 0 | CH21: =CH8*CH9*CH12/1000000 -> 0 | CI21: =CI8*CI9*CI12/1000000 -> 0 | CJ21: =CJ8*CJ9*CJ12/1000000 -> 0 | CK21: =CK8*CK9*CK12/1000000 -> 0 | CL21: =CL8*CL9*CL12/1000000 -> 0 | CM21: =CM8*CM9*CM12/1000000 -> 0 | CN21: =CN8*CN9*CN12/1000000 -> 0.55296 | CO21: =CO8*CO9*CO12/1000000 -> 0 | ... CS21: =CS8*CS9*CS12/1000000 -> 0 | CT21: =SUM(D21:CS21) -> 1.6128 | CU21: =(CT21/'Ante operam'!CT21*100)-100 -> 15.543329
C22: FLUSSO DI MASSA FLUORO (kg/g) | D22: =D8*D9*D13/1000000 -> 0 | E22: =E8*E9*E13/1000000 -> 0 | F22: =F8*F9*F13/1000000 -> 0 | G22: =G8*G9*G13/1000000 -> 0 | H22: =H8*H9*H13/1000000 -> 0 | I22: =I8*I9*I13/1000000 -> 0 | J22: =J8*J9*J13/1000000 -> 0 | K22: =K8*K9*K13/1000000 -> 0 | ... CE22: =CE8*CE9*CE13/1000000 -> 0 | CF22: =CF11*CF12*CF13/1000000 -> 0 | CG22: =CG11*CG12*CG13/1000000 -> 0 | CH22: =CH8*CH9*CH13/1000000 -> 0 | CI22: =CI8*CI9*CI13/1000000 -> 0 | CJ22: =CJ8*CJ9*CJ13/1000000 -> 0 | CK22: =CK8*CK9*CK13/1000000 -> 0 | CL22: =CL8*CL9*CL13/1000000 -> 0 | CM22: =CM8*CM9*CM13/1000000 -> 0 | CN22: =CN8*CN9*CN13/1000000 -> 5.5296 | CO22: =CO8*CO9*CO13/1000000 -> 0 | ... CS22: =CS8*CS9*CS13/1000000 -> 0 | CT22: =SUM(D22:CS22) -> 16.128 | CU22: =(CT22/'Ante operam'!CT22*100)-100 -> 15.543329
C23: FLUSSO DI MASSA S.O.V. (kg/g) | D23: =D8*D9*D14/1000000 -> 0 | E23: =E8*E9*E14/1000000 -> 0 | F23: =F8*F9*F14/1000000 -> 0 | G23: =G8*G9*G14/1000000 -> 0 | H23: =H8*H9*H14/1000000 -> 0 | I23: =I8*I9*I14/1000000 -> 0 | J23: =J8*J9*J14/1000000 -> 0 | K23: =K8*K9*K14/1000000 -> 0 | ... CE23: =CE8*CE9*CE14/1000000 -> 0 | CF23: =CF12*CF13*CF14/1000000 -> 0 | CG23: =CG12*CG13*CG14/1000000 -> 0 | CH23: =CH8*CH9*CH14/1000000 -> 0 | CI23: =CI8*CI9*CI14/1000000 -> 0 | CJ23: =CJ8*CJ9*CJ14/1000000 -> 0 | CK23: =CK8*CK9*CK14/1000000 -> 0 | CL23: =CL8*CL9*CL14/1000000 -> 0 | CM23: =CM8*CM9*CM14/1000000 -> 0 | CN23: =CN8*CN9*CN14/1000000 -> 54.144 | CO23: =CO8*CO9*CO14/1000000 -> 0 | ... CS23: =CS8*CS9*CS14/1000000 -> 0 | CT23: =SUM(D23:CS23) -> 158.472 | CU23: =(CT23/'Ante operam'!CT23*100)-100 -> 15.215495
C24: FLUSSO DI MASSA ALDEIDI (kg/g) | D24: =D8*D9*D15/1000000 -> 0 | E24: =E8*E9*E15/1000000 -> 0 | F24: =F8*F9*F15/1000000 -> 0 | G24: =G8*G9*G15/1000000 -> 0 | H24: =H8*H9*H15/1000000 -> 0 | I24: =I8*I9*I15/1000000 -> 0 | J24: =J8*J9*J15/1000000 -> 0 | K24: =K8*K9*K15/1000000 -> 0 | ... CE24: =CE8*CE9*CE15/1000000 -> 0 | CF24: =CF13*CF14*CF15/1000000 -> 0 | CG24: =CG13*CG14*CG15/1000000 -> 0 | CH24: =CH8*CH9*CH15/1000000 -> 0 | CI24: =CI8*CI9*CI15/1000000 -> 0 | CJ24: =CJ8*CJ9*CJ15/1000000 -> 0 | CK24: =CK8*CK9*CK15/1000000 -> 0 | CL24: =CL8*CL9*CL15/1000000 -> 0 | CM24: =CM8*CM9*CM15/1000000 -> 0 | CN24: =CN8*CN9*CN15/1000000 -> 21.888 | CO24: =CO8*CO9*CO15/1000000 -> 0 | ... CS24: =CS8*CS9*CS15/1000000 -> 0 | CT24: =SUM(D24:CS24) -> 61.992 | CU24: =(CT24/'Ante operam'!CT24*100)-100 -> 15.41555
C25: FLUSSO DI MASSA MONOSSIDO DI CARBONIO (kg/g) | D25: =D8*D9*D16/1000000 -> 0 | E25: =E8*E9*E16/1000000 -> 0 | F25: =F8*F9*F16/1000000 -> 0 | G25: =G8*G9*G16/1000000 -> 0 | H25: =H8*H9*H16/1000000 -> 0 | I25: =I8*I9*I16/1000000 -> 0 | J25: =J8*J9*J16/1000000 -> 0 | K25: =K8*K9*K16/1000000 -> 0 | ... CE25: =CE8*CE9*CE16/1000000 -> 520.8 | CF25: =CF14*CF15*CF16/1000000 -> 0 | CG25: =CG14*CG15*CG16/1000000 -> 0 | CH25: =CH8*CH9*CH16/1000000 -> 0 | CI25: =CI8*CI9*CI16/1000000 -> 0 | CJ25: =CJ8*CJ9*CJ16/1000000 -> 0 | CK25: =CK8*CK9*CK16/1000000 -> 0 | CL25: =CL8*CL9*CL16/1000000 -> 0 | CM25: =CM8*CM9*CM16/1000000 -> 0 | CN25: =CN8*CN9*CN16/1000000 -> 0 | CO25: =CO8*CO9*CO16/1000000 -> 0 | ... CS25: =CS8*CS9*CS16/1000000 -> 0 | CT25: =SUM(D25:CS25) -> 1488 | CU25: =(CT25/'Ante operam'!CT25*100)-100 -> 0
C26: FLUSSO DI MASSA OSSIDI DI AZOTO (kg/g) | D26: =D8*D9*D17/1000000 -> 0 | E26: =E8*E9*E17/1000000 -> 0 | F26: =F8*F9*F17/1000000 -> 0 | G26: =G8*G9*G17/1000000 -> 0 | H26: =H8*H9*H17/1000000 -> 0 | I26: =I8*I9*I17/1000000 -> 0 | J26: =J8*J9*J17/1000000 -> 0 | K26: =K8*K9*K17/1000000 -> 113.4 | ... CE26: =CE8*CE9*CE17/1000000 -> 319.2 | CF26: =CF15*CF16*CF17/1000000 -> 0 | CG26: =CG15*CG16*CG17/1000000 -> 0 | CH26: =CH8*CH9*CH17/1000000 -> 0 | CI26: =CI8*CI9*CI17/1000000 -> 0 | CJ26: =CJ8*CJ9*CJ17/1000000 -> 0 | CK26: =CK8*CK9*CK17/1000000 -> 0 | CL26: =CL8*CL9*CL17/1000000 -> 0 | CM26: =CM8*CM9*CM17/1000000 -> 0 | CN26: =CN8*CN9*CN17/1000000 -> 120.96 | CO26: =CO8*CO9*CO17/1000000 -> 0 | ... CS26: =CS8*CS9*CS17/1000000 -> 0 | CT26: =SUM(D26:CS26) -> 1380.72 | CU26: =(CT26/'Ante operam'!CT26*100)-100 -> 3.5923292
C27: FLUSSO DI MASSA OSSIDI DI ZOLFO (kg/g) | D27: =D8*D9*D18/1000000 -> 0 | E27: =E8*E9*E18/1000000 -> 0 | F27: =F8*F9*F18/1000000 -> 0 | G27: =G8*G9*G18/1000000 -> 0 | H27: =H8*H9*H18/1000000 -> 0 | I27: =I8*I9*I18/1000000 -> 0 | J27: =J8*J9*J18/1000000 -> 0 | K27: =K8*K9*K18/1000000 -> 37.8 | ... CE27: =CE8*CE9*CE18/1000000 -> 58.8 | CF27: =CF16*CF17*CF18/1000000 -> 0 | CG27: =CG16*CG17*CG18/1000000 -> 0 | CH27: =CH8*CH9*CH18/1000000 -> 0 | CI27: =CI8*CI9*CI18/1000000 -> 0 | CJ27: =CJ8*CJ9*CJ18/1000000 -> 0 | CK27: =CK8*CK9*CK18/1000000 -> 0 | CL27: =CL8*CL9*CL18/1000000 -> 0 | CM27: =CM8*CM9*CM18/1000000 -> 0 | CN27: =CN8*CN9*CN18/1000000 -> 466.56 | CO27: =CO8*CO9*CO18/1000000 -> 0 | ... CS27: =CS8*CS9*CS18/1000000 -> 0 | CT27: =SUM(D27:CS27) -> 1576.32 | CU27: =(CT27/'Ante operam'!CT27*100)-100 -> 13.270673
D29: Punti di emissione già autorizzati e non modificati
D30: Non previsti limiti dall'AIA
D31: Nuovi punti di emissione
D32: Eliminazione punti
D33: Variazioni rispetto a ultima modifica AIA
D34: Riduzioni / mitigazione portate o valori inquinanti rispetto a "STATO RICHIESTO"
C35: Scritte in rosso | D35: Variazioni a descrizioni punti esistenti

Sheet Post operam
A1: STABILIMENTO 1
A2: STABILIMENTO 2 | K2: ELIMINATO | AR2: ELIMINATO | AS2: ELIMINATO
A3: STABILIMENTO 5
DK4: TOTALE | DL4: % AUMENTO
C5: Caratteristiche delle emissioni e del sistema di depurazione Concentrazione massima ammessa di inquinanti | D5: PUNTO DI EMISSIONE N. E8 – pulizia pneumatica atomizzatori stab.1 | E5: PUNTO DI EMISSIONE N. E11 – pulizia pneumatica moduli pesatura presse stab.1 | F5: PUNTO DI EMISSIONE N. E22 – carico mulini discontinui ed atomizzato | G5: PUNTO DI EMISSIONE E30 – carico silos 1-16, 49-70 | H5: PUNTO DI EMISSIONE E31 – pulizia pneumatica rep. squadratura stab.1, aspirazione scelte SC15-SC16 e magazzino presse stab.1 | I5: PUNTO DI EMISSIONE E32 – estraz. silos 1-16, 49-70 e carico moduli pesatura presse stab.1 | J5: PUNTO DI EMISSIONE E33 – reparto ATM Stab. 1 e carico/scarico silos travaso 6-29 | K5: PUNTO DI EMISSIONE E63 – ATM 5000 | L5: PUNTO DI EMISSIONE E65 – silos polveri provenienti da filtri | M5: PUNTO DI EMISSIONE E105 – gruppo elettrogeno cabina 2 | N5: PUNTO DI EMISSIONE E114 - moduli pesatori, carico presse, spazzolatura uscita F12 e F13 e aspirazioni reparto lappatura, stuoiatura e squadratura Stabilimento 1 | O5: PUNTO DI EMISSIONE E18 - dosaggio materie prime e carico mulini macinazione materie prime | P5: PUNTO DI EMISSIONE E23 – pulizia pneumatica reparto macinazione e ATM stab.2 | Q5: PUNTO DI EMISSIONE E41 – pulizia pneumatica moduli presse 1,2,3, presse PH201, PH202, PH203, estrazione silos presse ed essiccatoi 201 e 202 stab.2 | R5: PUNTO DI EMISSIONE E42 – estrazione moduli pesatura 1,2,3 e presse PH 201-PH202,PH203 | S5: PUNTO DI EMISSIONE E52 – estrazione moduli pesatura 4,5,6 e presse PH26,PH207,PH28,PH205 | T5: PUNTO DI EMISSIONE E53 – pulizia pneumatica moduli presse 4,5,6, presse PH26,PH207,PH28,PH205, essiccatoi 203,204,205, rep. smalteria stab.2 ed entrata forni stab.2 | U5: PUNTO DI EMISSIONE E84 – smalterie 23,24,25 e macinazione smalti | V5: PUNTO DI EMISSIONE E88 – linee smalteria 21,22 | W5: PUNTO DI EMISSIONE E92 – officina | X5: PUNTO DI EMISSIONE E101 – emergenza cogeneratore | Y5: PUNTO DI EMISSIONE E106 – gruppo elettrogeno cabina 6 | Z5: PUNTO DI EMISSIONE E107 – gruppo elettrogeno cabina 6 bis | AA5: PUNTO DI EMISSIONE E108 – gruppo elettrogeno cabina 7 | AB5: PUNTO DI EMISSIONE E113 – linee scelta SC 201 - SC 202 - SC 203 - SC 204 - SC 205 - SC206 | AC5: PUNTO DI EMISSIONE E133 –ATM 22 + cogeneratore | AD5: PUNTO DI EMISSIONE E134 – filtro linee rettifica SQ203 e SQ204 | AE5: PUNTO DI EMISSIONE E135 – ATM 12 + cogeneratore | AF5: PUNTO DI EMISSIONE E136 – aspirazione linee pressatura (PL 11, PL12, PL13,PL14) | AG5: PUNTO DI EMISSIONE E137 – alimentazione polveri PL11, PL12, PL13,PL14 e sbavatura | AH5: PUNTO DI EMISSIONE E138 – camino 1 essiccatoio ESS12 | AI5: PUNTO DI EMISSIONE E139 – camino 2 essiccatoio ESS12 | AJ5: PUNTO DI EMISSIONE E141 – forno 12 | AK5: PUNTO DI EMISSIONE E142 – camini AAC1 + RLW forno 12 | AL5: PUNTO DI EMISSIONE E143 – camini AAC2 forno 12 | AM5: PUNTO DI EMISSIONE E144 – emergenza forno 12 | AN5: PUNTO DI EMISSIONE E145 – Smalterie SMA 12 - SMA13 -SMA14 | AO5: PUNTO DI EMISSIONE E146 – linea rettifica SQ12 e linea lappatura LAP11 | AP5: PUNTO DI EMISSIONE E147 – aspirazione pneumatica presse, essiccatoi, smalteria e forni stab.1 | AQ5: PUNTO DI EMISSIONE E148 – aspirazione linee scelta SC12 - SC13 - SC14 | AR5: PUNTO DI EMISSIONE E149 – essiccatoio 1 linea stuoiatura ST1 | AS5: PUNTO DI EMISSIONE E150 – essiccatoio 2 linea stuoiatura ST1 | AT5: PUNTO DI EMISSIONE E151 – emergenza cogeneratore COG11 | AU5: PUNTO DI EMISSIONE E152 – gruppo elettrogeno cabina 3 | AV5: PUNTO DI EMISSIONE E153 – filtro linee rettifica SQ201 e SQ202 | AW5: PUNTO DI EMISSIONE E154 – camino 1 essiccatoio ESS13 | AX5: PUNTO DI EMISSIONE E155 – camino 2 essiccatoio ESS13 | AY5: PUNTO DI EMISSIONE E157 – forno 13 | AZ5: PUNTO DI EMISSIONE E158 – camini AAC1 + RLW forno 13 | BA5: PUNTO DI EMISSIONE E159 – camini AAC2 forno 13 | BB5: PUNTO DI EMISSIONE E160 – emergenza forno 13 | BC5: PUNTO DI EMISSIONE E161 – linee rettifica SQ13-SQ14 | BD5: PUNTO DI EMISSIONE E163 – forni F22-F24 | BE5: PUNTO DI EMISSIONE E164 – emergenza forno 21 | BF5: PUNTO DI EMISSIONE E165 – raffreddamento RLW F21 | BG5: PUNTO DI EMISSIONE E166 – raffreddamento AAC1 F21 | BH5: PUNTO DI EMISSIONE E167 – raffreddamento AAC2 F21 | BI5: PUNTO DI EMISSIONE E168 – pulizia pneumatica linee SQ200 - SQ 201 - SQ202 - SQ203 - SQ204 - SQ205 e uscita forni F21, F22, F23,F24 | BJ5: E169 - postcombustore forni F12-F13 | BK5: PUNTO DI EMISSIONE E170 – forni 21-23 | BL5: PUNTO DI EMISSIONE E171 – camini AAC1 + RLW forno 22 | BM5: PUNTO DI EMISSIONE E172 – camini AAC2 forno 22 | BN5: PUNTO DI EMISSIONE E173 – emergenza forno 22 | BO5: PUNTO DI EMISSIONE E174 – camini AAC1 + RLW forno 23 | BP5: PUNTO DI EMISSIONE E175 – camini AAC2 forno 23 | BQ5: PUNTO DI EMISSIONE E176 – emergenza forno 23 | BR5: PUNTO DI EMISSIONE E177 camino linea termoretrazione CONF 201 | BS5: PUNTO DI EMISSIONE E178 camino linea termoretrazione CONF 202 | BT5: PUNTO DI EMISSIONE E179 camino linea termoretrazione CONF 203 | BU5: PUNTO DI EMISSIONE E180 camino linea termoretrazione CONF 204 | BV5: PUNTO DI EMISSIONE E181 camino linea termoretrazione CONF 12 | BW5: PUNTO DI EMISSIONE E182 camino linea termoretrazione CONF 13 | BX5: PUNTO DI EMISSIONE E183 emissione essiccatoio ESS 201 | BY5: PUNTO DI EMISSIONE E184 emissione essiccatoio ESS 202 | BZ5: PUNTO DI EMISSIONE E187 – linea squadratura SQ205 + pulizia zona uscita forni stab.2 | CA5: PUNTO DI EMISSIONE E189 -tramogge e linea carico terre | CB5: PUNTO DI EMISSIONE E190 – camino 1 essiccatoio ESS14 | CC5: PUNTO DI EMISSIONE E191 – camino 2 essiccatoio ESS14 | CD5: PUNTO DI EMISSIONE E192 - ATM 23 + cogeneratore | CE5: PUNTO DI EMISSIONE E193 carico-scarico sili atomizzato, area atomizzatori stab.2 e carico tramoggia atomizzato da esterno | CF5: PUNTO DI EMISSIONE E194 emissione essiccatoio 203 | CG5: PUNTO DI EMISSIONE E195 emissione essiccatoio ESS 204 | CH5: PUNTO DI EMISSIONE E196 emissione essiccatoio ESS 205 | CI5: PUNTO DI EMISSIONE E197 – camini AAC1 + RLW forno 24 | CJ5: PUNTO DI EMISSIONE E198 – camini AAC2 forno 24 | CK5: PUNTO DI EMISSIONE E199 – emergenza forno 24 | CL5: PUNTO DI EMISSIONE E200– linea squadratura SQ200 | CM5: E201 - postcombustore forni F21-F23 | CN5: PUNTO DI EMISSIONE E202 camino linea termoretrazione CONF 501 | CO5: PUNTO DI EMISSIONE E203 camino linea termoretrazione CONF 502 | CP5: PUNTO DI EMISSIONE E204 – gruppo elettrogeno di emergenza | CQ5: PUNTO DI EMISSIONE E205 -aspirazione linea lappatura 12 | CR5: PUNTO DI EMISSIONE E206 -aspirazione carico terre e materie prime ventilate stab.2 | CS5: PUNTO DI EMISSIONE E207 camino linea termoretrazione CONF 205 | CT5: PUNTO DI EMISSIONE E208 –nuovo ATM 13 + cogeneratore | CU5: PUNTO DI EMISSIONE E209 – nuovo forno F25 | CV5: E210 - postcombustore nuovo forno f25 | CW5: PUNTO DI EMISSIONE E211 - nuova linea smalteria SMA26 | CX5: PUNTO DI EMISSIONE E212 – nuovo essiccatoio ESS206 | CY5: PUNTO DI EMISSIONE E213 – aspirazione nuova linea di pressatura PH206 | CZ5: PUNTO DI EMISSIONE E214 – alimentazione polveri nuova linea di pressatura e sbavatura PH206 | DA5: PUNTO DI EMISSIONE E215 – nuova pulizia pneumatica | DB5: PUNTO DI EMISSIONE E216 carico-scarico nuovi sili atomizzato | DC5: PUNTO DI EMISSIONE E217– nuova linea di squadratura SQ206 | DD5: PUNTO DI EMISSIONE E218 – aspirazione nuova linea di scelta SC207 | DE5: PUNTO DI EMISSIONE E219 – 1° cabina linea stuoiatura ST11 | DF5: PUNTO DI EMISSIONE E220 – seconda cabina linea stuoiatura ST11 | DG5: PUNTO DI EMISSIONE E221 – essicatore elettrico linea di stuoiatura ST11 | DH5: PUNTO DI EMISSIONE E222– camini AAC1 + RLW forno 25 | DI5: PUNTO DI EMISSIONE E223 – camini AAC2 forno 25 | DJ5: PUNTO DI EMISSIONE E224 – emergenza forno 25
C8: Portata massima (Nmc/h) | D8: 2200 | E8: 2200 | F8: 30000 | G8: 21000 | H8: 2400 | I8: 25000 | J8: 44000 | K8: 0 | L8: 1800 | M8: 4500 | N8: 60000 | O8: 31000 | P8: 2200 | Q8: 2000 | R8: 74000 | S8: 110000 | T8: 2300 | U8: 31000 | V8: 28000 | W8: 2400 | X8: 17500 | Y8: 4500 | Z8: 3600 | AA8: 500 | AB8: 25000 | AC8: 70000 | AD8: 50000 | AE8: 60000 | AF8: 50000 | AG8: 40000 | AH8: 12000 | AI8: 13000 | AJ8: 22000 | AK8: 14500 | AL8: 25300 | AM8: 14500 | AN8: 45000 | AO8: 50000 | AP8: 2500 | AQ8: 10000 | AR8: 1500 | AS8: 0 | AT8: 17500 | AU8: 8000 | AV8: 52000 | AW8: 12000 | AX8: 13000 | AY8: 20000 | AZ8: 20250 | BA8: 35300 | BB8: 18750 | BC8: 64000 | BD8: 45000 | BE8: 20000 | BF8: 14500 | BG8: 22800 | BH8: 41000 | BI8: 1500 | BJ8: 48000 | BK8: 42000 | BL8: 20450 | BM8: 34200 | BN8: 20000 | BO8: 20450 | BP8: 34200 | BQ8: 20000 | BR8: 4000 | BS8: 4000 | BT8: 4000 | BU8: 4000 | BV8: 4000 | BW8: 8000 | BX8: 8000 | BY8: 8000 | BZ8: 30000 | CA8: 21000 | CB8: 12000 | CC8: 13000 | CD8: 70000 | CE8: 90000 | CF8: 8000 | CG8: 8000 | CH8: 8000 | CI8: 20450 | CJ8: 34200 | CK8: 22000 | CL8: 30000 | CM8: 48000 | CN8: 6000 | CO8: 6000 | CP8: 8000 | CQ8: 25000 | CR8: 17000 | CS8: 4000 | CT8: 70000 | CU8: 22000 | CV8: 25000 | CW8: 12000 | CX8: 15000 | CY8: 15000 | CZ8: 10000 | DA8: 2500 | DB8: 20000 | DC8: 30000 | DD8: 5000 | DE8: 8000 | DF8: 8000 | DG8: 4000 | DH8: 15000 | DI8: 26000 | DJ8: 15000
C9: Durata (h/g) | D9: 24 | E9: 24 | F9: 24 | G9: 24 | H9: 24 | I9: 24 | J9: 24 | K9: 24 | L9: 24 | N9: 24 | O9: 24 | P9: 24 | Q9: 24 | R9: 24 | S9: 24 | T9: 24 | U9: 24 | V9: 24 | W9: 8 | X9: 0 | Y9: 0 | Z9: 0 | AA9: 0 | AB9: 24 | AC9: 24 | AD9: 24 | AE9: 24 | AF9: 24 | AG9: 24 | AH9: 24 | AI9: 24 | AJ9: 24 | AK9: 24 | AL9: 24 | AM9: 0 | AN9: 24 | AO9: 24 | AP9: 24 | AQ9: 24 | AR9: 24 | AS9: 24 | AT9: 0 | AU9: 0 | AV9: 24 | AW9: 24 | AX9: 24 | AY9: 24 | AZ9: 24 | BA9: 24 | BB9: 0 | BC9: 24 | BD9: 24 | BE9: 0 | BF9: 24 | BG9: 24 | BH9: 24 | BI9: 24 | BJ9: 24 | BK9: 24 | BL9: 24 | BM9: 24 | BN9: 0 | BO9: 24 | BP9: 24 | BQ9: 0 | BR9: 24 | BS9: 24 | BT9: 24 | BU9: 24 | BV9: 24 | BW9: 24 | BX9: 24 | BY9: 24 | BZ9: 24 | CA9: 24 | CB9: 24 | CC9: 24 | CD9: 24 | CE9: 24 | CF9: 24 | CG9: 24 | CH9: 24 | CI9: 24 | CJ9: 24 | CK9: 0 | CL9: 24 | CM9: 24 | CN9: 24 | CO9: 24 | CP9: 0 | CQ9: 24 | CR9: 24 | CS9: 24 | CT9: 24 | CU9: 24 | CV9: 24 | CW9: 24 | CX9: 24 | CY9: 24 | CZ9: 24 | DA9: 24 | DB9: 24 | DC9: 24 | DD9: 24 | DE9: 24 | DF9: 24 | DG9: 24 | DH9: 24 | DI9: 24 | DJ9: 0
C10: Materiale Particellare (mg/Nmc) | D10: 24 | E10: 24 | F10: 24 | G10: 24 | H10: 24 | I10: 24 | J10: 24 | K10: 24 | L10: 24 | M10: 130 | N10: 10 | O10: 24 | P10: 24 | Q10: 24 | R10: 24 | S10: 24 | T10: 24 | U10: 10 | V10: 10 | X10: 130 | AB10: 10 | AC10: 22 | AD10: 15 | AE10: 22 | AF10: 16 | AG10: 15 | AJ10: 5 | AN10: 10 | AO10: 16 | AP10: 20 | AQ10: 15 | AT10: 50 | AV10: 16 | AY10: 5 | BC10: 15 | BD10: 5 | BI10: 15 | BJ10: 0 | BK10: 5 | BZ10: 23 | CA10: 21 | CD10: 22 | CE10: 24 | CL10: 23 | CM10: 0 | CQ10: 24 | CR10: 24 | CT10: 10 | CU10: 5 | CV10: 0 | CW10: 10 | CY10: 16 | CZ10: 15 | DA10: 24 | DB10: 24 | DC10: 23 | DD10: 15
C11: Silice libera cristallina (mg/Nm3) (#)
C12: Piombo (mg/Nmc) | AJ12: 0.35 | AY12: 0.35 | BD12: 0.35 | BJ12: 0 | BK12: 0.35 | CM12: 0 | CU12: 0.35 | CV12: 0
C13: Fluoro (mg/Nmc) | AJ13: 4.5 | AY13: 4.5 | BD13: 4.5 | BJ13: 0 | BK13: 4.5 | CM13: 0 | CU13: 4.5 | CV13: 0
C14: S.O.V. (come C-org. Totale) (mg/Nmc) | AJ14: 0 | AS14: 50 | AY14: 0 | BD14: 45 | BJ14: 32 | BK14: 0 | CM14: 32 | CU14: 0 | CV14: 32 | DE14: 50 | DF14: 50
C15: Aldeidi (mg/Nmc) | AJ15: 0 | AY15: 0 | BD15: 16 | BJ15: 15 | BK15: 0 | CM15: 15 | CU15: 0 | CV15: 15
C16: Monossido di Carbonio (come CO) (mg/Nm3) | M16: 650 | X16: 650 | AC16: 230 | AE16: 230 | AT16: 240 | CD16: 230 | CT16: 228
C17: Ossidi di Azoto (come NO2) (mg/Nm3) | K17: 105 | M17: 4000 | X17: 500 | AC17: 150 | AE17: 150 | AJ17: 0 | AT17: 95 | AY17: 0 | BD17: 105 | BJ17: 105 | BK17: 0 | CD17: 150 | CM17: 105 | CT17: 122 | CU17: 0 | CV17: 200
C18: Ossidi di Zolfo (come SO2) (mg/Nm3) | K18: 10 | X18: 500 | AC18: 13 | AE18: 13 | AJ18: 0 | AT18: 15 | AY18: 0 | BD18: 390 | BJ18: 390 | BK18: 0 | CD18: 13 | CM18: 390 | CT18: 5 | CU18: 0 | CV18: 390
C19: FLUSSO DI MASSA POLVERI (kg/g) | D19: =D8*D9*D10/1000000 -> 1.2672 | E19: =E8*E9*E10/1000000 -> 1.2672 | F19: =F8*F9*F10/1000000 -> 17.28 | G19: =G8*G9*G10/1000000 -> 12.096 | H19: =H8*H9*H10/1000000 -> 1.3824 | I19: =I8*I9*I10/1000000 -> 14.4 | J19: =J8*J9*J10/1000000 -> 25.344 | K19: =K8*K9*K10/1000000 -> 0 | ... DJ19: =DJ8*DJ9*DJ10/1000000 -> 0 | DK19: =SUM(D19:DJ20) -> 669.9816 | DL19: =(DK19/'Ante operam'!CT19*100)-100 -> -1.4989044
C20: FLUSSO DI MASSA SILICE (kg) | D20: 0 | E20: 0 | F20: 0 | G20: 0 | H20: 0 | I20: 0 | J20: 0 | K20: 0 | L20: 0 | M20: 0 | CE20: =CE9*CE10*CE11/1000000 -> 0 | CF20: =CF9*CF10*CF11/1000000 -> 0 | DB20: =DB9*DB10*DB11/1000000 -> 0 | DK20: =SUM(D20:DF20) -> 0 | DL20: =(DK20/'Ante operam'!CT20*100)-100 -> #DIV/0!
C21: FLUSSO DI MASSA PIOMBO (kg/g) | D21: =D8*D9*D12/1000000 -> 0 | E21: =E8*E9*E12/1000000 -> 0 | F21: =F8*F9*F12/1000000 -> 0 | G21: =G8*G9*G12/1000000 -> 0 | H21: =H8*H9*H12/1000000 -> 0 | I21: =I8*I9*I12/1000000 -> 0 | J21: =J8*J9*J12/1000000 -> 0 | K21: =K8*K9*K12/1000000 -> 0 | ... CD21: =CD8*CD9*CD12/1000000 -> 0 | CE21: =CE10*CE11*CE12/1000000 -> 0 | CF21: =CF10*CF11*CF12/1000000 -> 0 | CG21: =CG8*CG9*CG12/1000000 -> 0 | CH21: =CH8*CH9*CH12/1000000 -> 0 | CI21: =CI8*CI9*CI12/1000000 -> 0 | CJ21: =CJ8*CJ9*CJ12/1000000 -> 0 | CK21: =CK8*CK9*CK12/1000000 -> 0 | CL21: =CL8*CL9*CL12/1000000 -> 0 | CM21: =CM8*CM9*CM12/1000000 -> 0 | CN21: =CN8*CN9*CN12/1000000 -> 0 | ... DA21: =DA8*DA9*DA12/1000000 -> 0 | DB21: =DB10*DB11*DB12/1000000 -> 0 | DC21: =DC8*DC9*DC12/1000000 -> 0 | DD21: =DD8*DD9*DD12/1000000 -> 0 | DE21: =DE8*DE9*DE12/1000000 -> 0 | DF21: =DF8*DF9*DF12/1000000 -> 0 | DG21: =DG8*DG9*DG12/1000000 -> 0 | DH21: =DH8*DH9*DH12/1000000 -> 0 | DI21: =DI8*DI9*DI12/1000000 -> 0 | DJ21: =DJ8*DJ9*DJ12/1000000 -> 0 | DK21: =SUM(D21:DJ21) -> 1.2684 | DL21: =(DK21/'Ante operam'!CT21*100)-100 -> -9.1299862
C22: FLUSSO DI MASSA FLUORO (kg/g) | D22: =D8*D9*D13/1000000 -> 0 | E22: =E8*E9*E13/1000000 -> 0 | F22: =F8*F9*F13/1000000 -> 0 | G22: =G8*G9*G13/1000000 -> 0 | H22: =H8*H9*H13/1000000 -> 0 | I22: =I8*I9*I13/1000000 -> 0 | J22: =J8*J9*J13/1000000 -> 0 | K22: =K8*K9*K13/1000000 -> 0 | ... CD22: =CD8*CD9*CD13/1000000 -> 0 | CE22: =CE11*CE12*CE13/1000000 -> 0 | CF22: =CF11*CF12*CF13/1000000 -> 0 | CG22: =CG8*CG9*CG13/1000000 -> 0 | CH22: =CH8*CH9*CH13/1000000 -> 0 | CI22: =CI8*CI9*CI13/1000000 -> 0 | CJ22: =CJ8*CJ9*CJ13/1000000 -> 0 | CK22: =CK8*CK9*CK13/1000000 -> 0 | CL22: =CL8*CL9*CL13/1000000 -> 0 | CM22: =CM8*CM9*CM13/1000000 -> 0 | CN22: =CN8*CN9*CN13/1000000 -> 0 | ... DA22: =DA8*DA9*DA13/1000000 -> 0 | DB22: =DB11*DB12*DB13/1000000 -> 0 | DC22: =DC8*DC9*DC13/1000000 -> 0 | DD22: =DD8*DD9*DD13/1000000 -> 0 | DE22: =DE8*DE9*DE13/1000000 -> 0 | DF22: =DF8*DF9*DF13/1000000 -> 0 | DG22: =DG8*DG9*DG13/1000000 -> 0 | DH22: =DH8*DH9*DH13/1000000 -> 0 | DI22: =DI8*DI9*DI13/1000000 -> 0 | DJ22: =DJ8*DJ9*DJ13/1000000 -> 0 | DK22: =SUM(D22:DJ22) -> 16.308 | DL22: =(DK22/'Ante operam'!CT22*100)-100 -> 16.832875
C23: FLUSSO DI MASSA S.O.V. (kg/g) | D23: =D8*D9*D14/1000000 -> 0 | E23: =E8*E9*E14/1000000 -> 0 | F23: =F8*F9*F14/1000000 -> 0 | G23: =G8*G9*G14/1000000 -> 0 | H23: =H8*H9*H14/1000000 -> 0 | I23: =I8*I9*I14/1000000 -> 0 | J23: =J8*J9*J14/1000000 -> 0 | K23: =K8*K9*K14/1000000 -> 0 | ... CD23: =CD8*CD9*CD14/1000000 -> 0 | CE23: =CE12*CE13*CE14/1000000 -> 0 | CF23: =CF12*CF13*CF14/1000000 -> 0 | CG23: =CG8*CG9*CG14/1000000 -> 0 | CH23: =CH8*CH9*CH14/1000000 -> 0 | CI23: =CI8*CI9*CI14/1000000 -> 0 | CJ23: =CJ8*CJ9*CJ14/1000000 -> 0 | CK23: =CK8*CK9*CK14/1000000 -> 0 | CL23: =CL8*CL9*CL14/1000000 -> 0 | CM23: =CM8*CM9*CM14/1000000 -> 36.864 | CN23: =CN8*CN9*CN14/1000000 -> 0 | ... DA23: =DA8*DA9*DA14/1000000 -> 0 | DB23: =DB12*DB13*DB14/1000000 -> 0 | DC23: =DC8*DC9*DC14/1000000 -> 0 | DD23: =DD8*DD9*DD14/1000000 -> 0 | DE23: =DE8*DE9*DE14/1000000 -> 9.6 | DF23: =DF8*DF9*DF14/1000000 -> 9.6 | DG23: =DG8*DG9*DG14/1000000 -> 0 | DH23: =DH8*DH9*DH14/1000000 -> 0 | DI23: =DI8*DI9*DI14/1000000 -> 0 | DJ23: =DJ8*DJ9*DJ14/1000000 -> 0 | DK23: =SUM(D23:DJ23) -> 160.728 | DL23: =(DK23/'Ante operam'!CT23*100)-100 -> 16.855697
C24: FLUSSO DI MASSA ALDEIDI (kg/g) | D24: =D8*D9*D15/1000000 -> 0 | E24: =E8*E9*E15/1000000 -> 0 | F24: =F8*F9*F15/1000000 -> 0 | G24: =G8*G9*G15/1000000 -> 0 | H24: =H8*H9*H15/1000000 -> 0 | I24: =I8*I9*I15/1000000 -> 0 | J24: =J8*J9*J15/1000000 -> 0 | K24: =K8*K9*K15/1000000 -> 0 | ... CD24: =CD8*CD9*CD15/1000000 -> 0 | CE24: =CE13*CE14*CE15/1000000 -> 0 | CF24: =CF13*CF14*CF15/1000000 -> 0 | CG24: =CG8*CG9*CG15/1000000 -> 0 | CH24: =CH8*CH9*CH15/1000000 -> 0 | CI24: =CI8*CI9*CI15/1000000 -> 0 | CJ24: =CJ8*CJ9*CJ15/1000000 -> 0 | CK24: =CK8*CK9*CK15/1000000 -> 0 | CL24: =CL8*CL9*CL15/1000000 -> 0 | CM24: =CM8*CM9*CM15/1000000 -> 17.28 | CN24: =CN8*CN9*CN15/1000000 -> 0 | ... DA24: =DA8*DA9*DA15/1000000 -> 0 | DB24: =DB13*DB14*DB15/1000000 -> 0 | DC24: =DC8*DC9*DC15/1000000 -> 0 | DD24: =DD8*DD9*DD15/1000000 -> 0 | DE24: =DE8*DE9*DE15/1000000 -> 0 | DF24: =DF8*DF9*DF15/1000000 -> 0 | DG24: =DG8*DG9*DG15/1000000 -> 0 | DH24: =DH8*DH9*DH15/1000000 -> 0 | DI24: =DI8*DI9*DI15/1000000 -> 0 | DJ24: =DJ8*DJ9*DJ15/1000000 -> 0 | DK24: =SUM(D24:DJ24) -> 60.84 | DL24: =(DK24/'Ante operam'!CT24*100)-100 -> 13.270777
C25: FLUSSO DI MASSA MONOSSIDO DI CARBONIO (kg/g) | D25: =D8*D9*D16/1000000 -> 0 | E25: =E8*E9*E16/1000000 -> 0 | F25: =F8*F9*F16/1000000 -> 0 | G25: =G8*G9*G16/1000000 -> 0 | H25: =H8*H9*H16/1000000 -> 0 | I25: =I8*I9*I16/1000000 -> 0 | J25: =J8*J9*J16/1000000 -> 0 | K25: =K8*K9*K16/1000000 -> 0 | ... CD25: =CD8*CD9*CD16/1000000 -> 386.4 | CE25: =CE14*CE15*CE16/1000000 -> 0 | CF25: =CF14*CF15*CF16/1000000 -> 0 | CG25: =CG8*CG9*CG16/1000000 -> 0 | CH25: =CH8*CH9*CH16/1000000 -> 0 | CI25: =CI8*CI9*CI16/1000000 -> 0 | CJ25: =CJ8*CJ9*CJ16/1000000 -> 0 | CK25: =CK8*CK9*CK16/1000000 -> 0 | CL25: =CL8*CL9*CL16/1000000 -> 0 | CM25: =CM8*CM9*CM16/1000000 -> 0 | CN25: =CN8*CN9*CN16/1000000 -> 0 | ... DA25: =DA8*DA9*DA16/1000000 -> 0 | DB25: =DB14*DB15*DB16/1000000 -> 0 | DC25: =DC8*DC9*DC16/1000000 -> 0 | DD25: =DD8*DD9*DD16/1000000 -> 0 | DE25: =DE8*DE9*DE16/1000000 -> 0 | DF25: =DF8*DF9*DF16/1000000 -> 0 | DG25: =DG8*DG9*DG16/1000000 -> 0 | DH25: =DH8*DH9*DH16/1000000 -> 0 | DI25: =DI8*DI9*DI16/1000000 -> 0 | DJ25: =DJ8*DJ9*DJ16/1000000 -> 0 | DK25: =SUM(D25:DJ25) -> 1487.04 | DL25: =(DK25/'Ante operam'!CT25*100)-100 -> -0.064516129
C26: FLUSSO DI MASSA OSSIDI DI AZOTO (kg/g) | D26: =D8*D9*D17/1000000 -> 0 | E26: =E8*E9*E17/1000000 -> 0 | F26: =F8*F9*F17/1000000 -> 0 | G26: =G8*G9*G17/1000000 -> 0 | H26: =H8*H9*H17/1000000 -> 0 | I26: =I8*I9*I17/1000000 -> 0 | J26: =J8*J9*J17/1000000 -> 0 | K26: =K8*K9*K17/1000000 -> 0 | ... CD26: =CD8*CD9*CD17/1000000 -> 252 | CE26: =CE15*CE16*CE17/1000000 -> 0 | CF26: =CF15*CF16*CF17/1000000 -> 0 | CG26: =CG8*CG9*CG17/1000000 -> 0 | CH26: =CH8*CH9*CH17/1000000 -> 0 | CI26: =CI8*CI9*CI17/1000000 -> 0 | CJ26: =CJ8*CJ9*CJ17/1000000 -> 0 | CK26: =CK8*CK9*CK17/1000000 -> 0 | CL26: =CL8*CL9*CL17/1000000 -> 0 | CM26: =CM8*CM9*CM17/1000000 -> 120.96 | CN26: =CN8*CN9*CN17/1000000 -> 0 | ... DA26: =DA8*DA9*DA17/1000000 -> 0 | DB26: =DB15*DB16*DB17/1000000 -> 0 | DC26: =DC8*DC9*DC17/1000000 -> 0 | DD26: =DD8*DD9*DD17/1000000 -> 0 | DE26: =DE8*DE9*DE17/1000000 -> 0 | DF26: =DF8*DF9*DF17/1000000 -> 0 | DG26: =DG8*DG9*DG17/1000000 -> 0 | DH26: =DH8*DH9*DH17/1000000 -> 0 | DI26: =DI8*DI9*DI17/1000000 -> 0 | DJ26: =DJ8*DJ9*DJ17/1000000 -> 0 | DK26: =SUM(D26:DJ26) -> 1400.28 | DL26: =(DK26/'Ante operam'!CT26*100)-100 -> 5.0598722
C27: FLUSSO DI MASSA OSSIDI DI ZOLFO (kg/g) | D27: =D8*D9*D18/1000000 -> 0 | E27: =E8*E9*E18/1000000 -> 0 | F27: =F8*F9*F18/1000000 -> 0 | G27: =G8*G9*G18/1000000 -> 0 | H27: =H8*H9*H18/1000000 -> 0 | I27: =I8*I9*I18/1000000 -> 0 | J27: =J8*J9*J18/1000000 -> 0 | K27: =K8*K9*K18/1000000 -> 0 | ... CD27: =CD8*CD9*CD18/1000000 -> 21.84 | CE27: =CE16*CE17*CE18/1000000 -> 0 | CF27: =CF16*CF17*CF18/1000000 -> 0 | CG27: =CG8*CG9*CG18/1000000 -> 0 | CH27: =CH8*CH9*CH18/1000000 -> 0 | CI27: =CI8*CI9*CI18/1000000 -> 0 | CJ27: =CJ8*CJ9*CJ18/1000000 -> 0 | CK27: =CK8*CK9*CK18/1000000 -> 0 | CL27: =CL8*CL9*CL18/1000000 -> 0 | CM27: =CM8*CM9*CM18/1000000 -> 449.28 | CN27: =CN8*CN9*CN18/1000000 -> 0 | ... DA27: =DA8*DA9*DA18/1000000 -> 0 | DB27: =DB16*DB17*DB18/1000000 -> 0 | DC27: =DC8*DC9*DC18/1000000 -> 0 | DD27: =DD8*DD9*DD18/1000000 -> 0 | DE27: =DE8*DE9*DE18/1000000 -> 0 | DF27: =DF8*DF9*DF18/1000000 -> 0 | DG27: =DG8*DG9*DG18/1000000 -> 0 | DH27: =DH8*DH9*DH18/1000000 -> 0 | DI27: =DI8*DI9*DI18/1000000 -> 0 | DJ27: =DJ8*DJ9*DJ18/1000000 -> 0 | DK27: =SUM(D27:DJ27) -> 1624.56 | DL27: =(DK27/'Ante operam'!CT27*100)-100 -> 16.737087
D29: Punti di emissione già autorizzati e non modificati
D30: Non previsti limiti dall'AIA
D31: Nuovi punti di emissione
D32: Eliminazione punti
D33: Variazioni rispetto a ultima modifica AIA
D34: Riduzioni / mitigazione portate o valori inquinanti rispetto a "STATO RICHIESTO"
C35: Scritte in rosso | D35: Variazioni a descrizioni punti esistenti
